BEGIN:VCALENDAR
METHOD:PUBLISH
X-WR-TIMEZONE:America/Denver
PRODID:-//Hold My Ticket.//HMT Web App//EN
CALSCALE:GREGORIAN
METHOD:PUBLISH
X-WR-CALNAME:Launchpad
X-WR-CALDESC:Upcoming events at Launchpad
BEGIN:VTIMEZONE
TZID:America/Denver 
END:VTIMEZONE
BEGIN:VEVENT
SEQUENCE:2
TRANSP:OPAQUE
UID:f472221794ebd0f67022ae434c05fe9f
DTSTART:20230528T193000
DTSTAMP:20230529T153057Z
SUMMARY:The Last Gang * All Thicc * Mommy Milkers * Smoking Dolls
DESCRIPTION:* The Last Gang * All Thicc * Mommy Milkers * Smoking Dolls *

https://www.facebook.com/events/721108612764992
CREATED:20230529T153057Z
URL;VALUE=URI:http://holdmyticket.com/event/407310 

DTEND:20230528T230000
END:VEVENT
END:VCALENDAR