BEGIN:VCALENDAR
METHOD:PUBLISH
X-WR-TIMEZONE:America/New_York
PRODID:-//Hold My Ticket.//HMT Web App//EN
CALSCALE:GREGORIAN
METHOD:PUBLISH
X-WR-CALNAME:Terra Fermata
X-WR-CALDESC:Upcoming events at Terra Fermata
BEGIN:VTIMEZONE
TZID:America/New_York 
END:VTIMEZONE
BEGIN:VEVENT
SEQUENCE:2
TRANSP:OPAQUE
UID:86e8596a622293e63989cf6dcad5739d
DTSTART:20230303T190000
DTSTAMP:20230303T150143Z
SUMMARY:Wicked Serenity - Tribute To Godsmack w/ Signs of Sacrifice
DESCRIPTION:Tickets $10 advance, $15 at the door. Wicked Serenity has been proclaimed by many as America's ultimate and most dominant Godsmack Tribute Band! They deliver a highly energetic and accurate tribute performance that resembles the sound, brand, and experience that Godsmack represents!!
Our musical format is blended with a dynamic mix of executing the authentic versions of 20+ original Godsmack songs ranging the bands entire catalog.

Signs Of Sacrifice is an amazing Creed tribute group that is proudly located in the Tampa Bay, FL stomping grounds!
We deliver a highly energetic and accurate tribute performance that resembles the sound, brand, and experience of Creed!
Hits include - My Sacrifice, Higher, My Own Prison, Torn, With Arms Wide Open and many more!
​Creed is one of the biggest selling hard rock bands to come out of the 90's!!!
Signs Of Sacrifice - Tribute to Creed: Official Promo Video
We also collaborate our creative and natural playing styles, physical stage performance, and diverse techniques, to amplify our main passion...
Entertaining our music loving friends, family, and fans!
CREATED:20230303T150143Z
URL;VALUE=URI:http://holdmyticket.com/event/408103 

DTEND:20230303T220000
END:VEVENT
END:VCALENDAR