BEGIN:VCALENDAR
METHOD:PUBLISH
X-WR-TIMEZONE:America/Denver
PRODID:-//Hold My Ticket.//HMT Web App//EN
CALSCALE:GREGORIAN
METHOD:PUBLISH
X-WR-CALNAME:Monks Bar
X-WR-CALDESC:Upcoming events at Monks Bar
BEGIN:VTIMEZONE
TZID:America/Denver 
END:VTIMEZONE
BEGIN:VEVENT
SEQUENCE:2
TRANSP:OPAQUE
UID:fedfb94f3359ef5e0adcfd345b307447
DTSTART:20230423T190000
DTSTAMP:20230423T140158Z
SUMMARY:Chris Webby Live in Missoula
DESCRIPTION:Strong Survive and Extrinsic Proudly Present 
Chris Webby Live in Missoula 
21+
CREATED:20230423T140158Z
URL;VALUE=URI:http://holdmyticket.com/event/408116 

DTEND:20230424T000000
END:VEVENT
END:VCALENDAR