BEGIN:VCALENDAR
METHOD:PUBLISH
X-WR-TIMEZONE:America/Chicago
PRODID:-//Hold My Ticket.//HMT Web App//EN
CALSCALE:GREGORIAN
METHOD:PUBLISH
X-WR-CALNAME:The Railhouse
X-WR-CALDESC:Upcoming events at The Railhouse
BEGIN:VTIMEZONE
TZID:America/Chicago 
END:VTIMEZONE
BEGIN:VEVENT
SEQUENCE:2
TRANSP:OPAQUE
UID:3f8d783e0dfbc13c27635eb0dddbd9e6
DTSTART:20230125T200000
DTSTAMP:20230125T160153Z
SUMMARY:DJ DevilWoman
DESCRIPTION:
CREATED:20230125T160153Z
URL;VALUE=URI:http://holdmyticket.com/event/408356 

DTEND:20230125T230000
END:VEVENT
END:VCALENDAR