BEGIN:VCALENDAR
METHOD:PUBLISH
X-WR-TIMEZONE:America/Denver
PRODID:-//Hold My Ticket.//HMT Web App//EN
CALSCALE:GREGORIAN
METHOD:PUBLISH
X-WR-CALNAME:Tumbleroot Brewery & Distillery
X-WR-CALDESC:Upcoming events at Tumbleroot Brewery & Distillery
BEGIN:VTIMEZONE
TZID:America/Denver 
END:VTIMEZONE
BEGIN:VEVENT
SEQUENCE:2
TRANSP:OPAQUE
UID:7029e7667a6d69f8aa69df5151bb0162
DTSTART:20230311T193000
DTSTAMP:20230311T163922Z
SUMMARY:Tank and the Bangas - SOLD OUT!
DESCRIPTION:Tank and The Bangas don't go anywhere quietly. Sitting around a dimly lit room in London's neighborhood of Camden Town, vocalist Tank Ball, bassist Norman Spence, drummer Joshua Johnson and saxophonist Albert Allenback can't go mere minutes without bursting into play fights, or talking over one another, or laughing from their deepest guts. They are a beacon of life. And it's that life that you hear in their music. That's what makes them one of the most thrilling, unpredictable and sonically diverse bands on the planet; a unit where jazz meets hip-hop, soul meets rock, and funk is the beating heart of everything they do.
CREATED:20230311T163922Z
URL;VALUE=URI:http://holdmyticket.com/event/408391 

DTEND:20230311T233000
END:VEVENT
END:VCALENDAR