BEGIN:VCALENDAR
METHOD:PUBLISH
X-WR-TIMEZONE:America/Denver
PRODID:-//Hold My Ticket.//HMT Web App//EN
CALSCALE:GREGORIAN
METHOD:PUBLISH
X-WR-CALNAME:The Oriental Theater
X-WR-CALDESC:Upcoming events at The Oriental Theater
BEGIN:VTIMEZONE
TZID:America/Denver 
END:VTIMEZONE
BEGIN:VEVENT
SEQUENCE:2
TRANSP:OPAQUE
UID:661d4378f36cc1f76cfe4eb8df9ed0d9
DTSTART:20230521T190000
DTSTAMP:20230521T184124Z
SUMMARY:Alestorm ****SOLD OUT ****
DESCRIPTION:
CREATED:20230521T184124Z
URL;VALUE=URI:http://holdmyticket.com/event/408651 

DTEND:20230521T220000
END:VEVENT
END:VCALENDAR