BEGIN:VCALENDAR
METHOD:PUBLISH
X-WR-TIMEZONE:America/Los_Angeles
PRODID:-//Hold My Ticket.//HMT Web App//EN
CALSCALE:GREGORIAN
METHOD:PUBLISH
X-WR-CALNAME:Winstons
X-WR-CALDESC:Upcoming events at Winstons
BEGIN:VTIMEZONE
TZID:America/Los_Angeles 
END:VTIMEZONE
BEGIN:VEVENT
SEQUENCE:2
TRANSP:OPAQUE
UID:1071e87d61533d901f3b2503f5cf7c0f
DTSTART:20230330T210000
DTSTAMP:20230330T160103Z
SUMMARY: Alific and Man of the Forests - Aaron Wolf and Divina of Boostive
DESCRIPTION:
CREATED:20230330T160103Z
URL;VALUE=URI:http://holdmyticket.com/event/408938 

DTEND:20230331T000000
END:VEVENT
END:VCALENDAR