BEGIN:VCALENDAR
METHOD:PUBLISH
X-WR-TIMEZONE:America/Denver
PRODID:-//Hold My Ticket.//HMT Web App//EN
CALSCALE:GREGORIAN
METHOD:PUBLISH
X-WR-CALNAME:Tour ABQ at Hotel Albuquerque 
X-WR-CALDESC:Upcoming events at Tour ABQ at Hotel Albuquerque 
BEGIN:VTIMEZONE
TZID:America/Denver 
END:VTIMEZONE
BEGIN:VEVENT
SEQUENCE:2
TRANSP:OPAQUE
UID:c5b0d3b7000eaf01c64d1f0d1ae23eec
DTSTART:20230214T183000
DTSTAMP:20230214T150143Z
SUMMARY:Albucreepy is for (TACO) lovers.
DESCRIPTION:
CREATED:20230214T150143Z
URL;VALUE=URI:http://holdmyticket.com/event/409302 

DTEND:20230214T210000
END:VEVENT
END:VCALENDAR