BEGIN:VCALENDAR
METHOD:PUBLISH
X-WR-TIMEZONE:America/Denver
PRODID:-//Hold My Ticket.//HMT Web App//EN
CALSCALE:GREGORIAN
METHOD:PUBLISH
X-WR-CALNAME:The Bridge (Inside at Santa Fe Brewing Company)
X-WR-CALDESC:Upcoming events at The Bridge (Inside at Santa Fe Brewing Company)
BEGIN:VTIMEZONE
TZID:America/Denver 
END:VTIMEZONE
BEGIN:VEVENT
SEQUENCE:2
TRANSP:OPAQUE
UID:9da2d4e086c26e16f6d6c2980a50302c
DTSTART:20230323T193000
DTSTAMP:20230323T150130Z
SUMMARY:Steve'n'Seagulls 
DESCRIPTION:It could've been a cold winter day or warm summer night in Finland--but it was around the year 2010. Someone came up with an idea to combine bluegrass, Finnish folk and rock/metal music. The outcome was and has since been Steve'n'Seagulls. The band you didn't know you missed but you do know you want to hear again. Hailing from Finland in Northern Europe, this jolly bunch is riding harder and faster than ever. 
CREATED:20230323T150130Z
URL;VALUE=URI:http://holdmyticket.com/event/409502 

DTEND:20230323T233000
END:VEVENT
END:VCALENDAR