BEGIN:VCALENDAR
METHOD:PUBLISH
X-WR-TIMEZONE:America/Denver
PRODID:-//Hold My Ticket.//HMT Web App//EN
CALSCALE:GREGORIAN
METHOD:PUBLISH
X-WR-CALNAME:Black Sheep
X-WR-CALDESC:Upcoming events at Black Sheep
BEGIN:VTIMEZONE
TZID:America/Denver 
END:VTIMEZONE
BEGIN:VEVENT
SEQUENCE:2
TRANSP:OPAQUE
UID:5ff1b7b3d523fe276edf81549c5c72ca
DTSTART:20230507T200000
DTSTAMP:20230507T150137Z
SUMMARY:The Plot In You
DESCRIPTION:
CREATED:20230507T150137Z
URL;VALUE=URI:http://holdmyticket.com/event/409717 

DTEND:20230507T230000
END:VEVENT
END:VCALENDAR