BEGIN:VCALENDAR
METHOD:PUBLISH
X-WR-TIMEZONE:America/Denver
PRODID:-//Hold My Ticket.//HMT Web App//EN
CALSCALE:GREGORIAN
METHOD:PUBLISH
X-WR-CALNAME:The Oriental Theater
X-WR-CALDESC:Upcoming events at The Oriental Theater
BEGIN:VTIMEZONE
TZID:America/Denver 
END:VTIMEZONE
BEGIN:VEVENT
SEQUENCE:2
TRANSP:OPAQUE
UID:aeb6a0cab9eb4ea047e9a53a8340bd5f
DTSTART:20230505T193000
DTSTAMP:20230505T150119Z
SUMMARY:Fly Racing PulpMX/Racer X LIVE Podcast Show
DESCRIPTION:
CREATED:20230505T150119Z
URL;VALUE=URI:http://holdmyticket.com/event/409718 

DTEND:20230505T224500
END:VEVENT
END:VCALENDAR