BEGIN:VCALENDAR
METHOD:PUBLISH
X-WR-TIMEZONE:America/New_York
PRODID:-//Hold My Ticket.//HMT Web App//EN
CALSCALE:GREGORIAN
METHOD:PUBLISH
X-WR-CALNAME:Terra Fermata
X-WR-CALDESC:Upcoming events at Terra Fermata
BEGIN:VTIMEZONE
TZID:America/New_York 
END:VTIMEZONE
BEGIN:VEVENT
SEQUENCE:2
TRANSP:OPAQUE
UID:2a1e36d8c7e956c25fda551c830087b5
DTSTART:20230513T190000
DTSTAMP:20230513T140108Z
SUMMARY:Bob Marley Tribute with One Love Rising feat. Juanjamon, Derrick and the band
DESCRIPTION:Welcome back Florida's #1 Bob Marley Tribute band. Get ready to get irie. 
CREATED:20230513T140108Z
URL;VALUE=URI:http://holdmyticket.com/event/409945 

DTEND:20230513T220000
END:VEVENT
END:VCALENDAR