BEGIN:VCALENDAR
METHOD:PUBLISH
X-WR-TIMEZONE:America/Los_Angeles
PRODID:-//Hold My Ticket.//HMT Web App//EN
CALSCALE:GREGORIAN
METHOD:PUBLISH
X-WR-CALNAME:Winstons
X-WR-CALDESC:Upcoming events at Winstons
BEGIN:VTIMEZONE
TZID:America/Los_Angeles 
END:VTIMEZONE
BEGIN:VEVENT
SEQUENCE:2
TRANSP:OPAQUE
UID:f8fe36605baeab36942f6f47ff0e6f85
DTSTART:20230423T140000
DTSTAMP:20230423T090158Z
SUMMARY:Kushtaka. Bastard Saints. Suede Radio.
DESCRIPTION:A blend of metal, punk, and aggro rock in loud volumes with heavy mosh tones that entices the palate.

horns up.

rock out with your...
CREATED:20230423T090158Z
URL;VALUE=URI:http://holdmyticket.com/event/410664 

DTEND:20230423T193000
END:VEVENT
END:VCALENDAR