BEGIN:VCALENDAR
METHOD:PUBLISH
X-WR-TIMEZONE:America/Denver
PRODID:-//Hold My Ticket.//HMT Web App//EN
CALSCALE:GREGORIAN
METHOD:PUBLISH
X-WR-CALNAME:Launchpad
X-WR-CALDESC:Upcoming events at Launchpad
BEGIN:VTIMEZONE
TZID:America/Denver 
END:VTIMEZONE
BEGIN:VEVENT
SEQUENCE:2
TRANSP:OPAQUE
UID:c4f7f35e2563e8ece4879ebe4af5e8b2
DTSTART:20230927T193000
DTSTAMP:20230927T231037Z
SUMMARY:Uada 
DESCRIPTION:* UADA * Ghost Bath * Cloak * Spectral Decay *

Wednesday, September 27, 2023
Doors 7pm | Show 730pm
Launchpad
ABQ NM 
All Ages 
Advance tickets - $20 + service charge
https://www.facebook.com/events/226919820195486
CREATED:20230927T231037Z
URL;VALUE=URI:http://holdmyticket.com/event/413648 

DTEND:20230928T000000
END:VEVENT
END:VCALENDAR