BEGIN:VCALENDAR
METHOD:PUBLISH
X-WR-TIMEZONE:America/Denver
PRODID:-//Hold My Ticket.//HMT Web App//EN
CALSCALE:GREGORIAN
METHOD:PUBLISH
X-WR-CALNAME:Taylor Ranch Library
X-WR-CALDESC:Upcoming events at Taylor Ranch Library
BEGIN:VTIMEZONE
TZID:America/Denver 
END:VTIMEZONE
BEGIN:VEVENT
SEQUENCE:2
TRANSP:OPAQUE
UID:923783b782a6e5bb98b436129b6beb92
DTSTART:20230514T150000
DTSTAMP:20230514T100107Z
SUMMARY:Mala Maña
DESCRIPTION:Mala Maña is an Albuquerque-based voice and percussion ensemble, fusing contemporary and folkloric rhythms of the African diasporas. Much of their focus is in Latin American music; however, they encompass influences of all the Americas. Performing original as well as traditional songs, their sound is inspiring and unforgettable. Mala Maña plays everywhere from community-inspired events and local music venues to larger festivals.
CREATED:20230514T100107Z
URL;VALUE=URI:http://holdmyticket.com/event/414270 

DTEND:20230514T160000
END:VEVENT
END:VCALENDAR