BEGIN:VCALENDAR
METHOD:PUBLISH
X-WR-TIMEZONE:America/Denver
PRODID:-//Hold My Ticket.//HMT Web App//EN
CALSCALE:GREGORIAN
METHOD:PUBLISH
X-WR-CALNAME:FUSION | Meadow
X-WR-CALDESC:Upcoming events at FUSION | Meadow
BEGIN:VTIMEZONE
TZID:America/Denver 
END:VTIMEZONE
BEGIN:VEVENT
SEQUENCE:2
TRANSP:OPAQUE
UID:32b25cf2128c8bc6d6cd7d68947dffa4
DTSTART:20230910T190000
DTSTAMP:20230910T140144Z
SUMMARY:Black Uhuru
DESCRIPTION:For over 50 years Black Uhuru has remained one of the most popular reggae bands from Jamaica. The living legends have earned several achievements in the music industry, including winning the first ever Grammy Award for reggae music. Their long success, along with having the highest reggae record sales after Bob Marley and the most songs sampled by other artist over the years, has allowed them to become ambassadors of reggae. 
CREATED:20230910T140144Z
URL;VALUE=URI:http://holdmyticket.com/event/414342 

DTEND:20230910T213000
END:VEVENT
END:VCALENDAR