BEGIN:VCALENDAR
METHOD:PUBLISH
X-WR-TIMEZONE:America/Los_Angeles
PRODID:-//Hold My Ticket.//HMT Web App//EN
CALSCALE:GREGORIAN
METHOD:PUBLISH
X-WR-CALNAME:The Big Dipper
X-WR-CALDESC:Upcoming events at The Big Dipper
BEGIN:VTIMEZONE
TZID:America/Los_Angeles 
END:VTIMEZONE
BEGIN:VEVENT
SEQUENCE:2
TRANSP:OPAQUE
UID:e8637d98dbb2607aa2e3532e56c582da
DTSTART:20230611T183000
DTSTAMP:20230611T140105Z
SUMMARY:Secrets
DESCRIPTION:
CREATED:20230611T140105Z
URL;VALUE=URI:http://holdmyticket.com/event/414396 

DTEND:20230611T223000
END:VEVENT
END:VCALENDAR