BEGIN:VCALENDAR
METHOD:PUBLISH
X-WR-TIMEZONE:America/Los_Angeles
PRODID:-//Hold My Ticket.//HMT Web App//EN
CALSCALE:GREGORIAN
METHOD:PUBLISH
X-WR-CALNAME:Winstons
X-WR-CALDESC:Upcoming events at Winstons
BEGIN:VTIMEZONE
TZID:America/Los_Angeles 
END:VTIMEZONE
BEGIN:VEVENT
SEQUENCE:2
TRANSP:OPAQUE
UID:1155505c4579b68a4510f192d0da3b9d
DTSTART:20230601T213000
DTSTAMP:20230601T190920Z
SUMMARY:Dogs in a Pile 
DESCRIPTION:
CREATED:20230601T190920Z
URL;VALUE=URI:http://holdmyticket.com/event/414404 

DTEND:20230602T003000
END:VEVENT
END:VCALENDAR