BEGIN:VCALENDAR
METHOD:PUBLISH
X-WR-TIMEZONE:America/Denver
PRODID:-//Hold My Ticket.//HMT Web App//EN
CALSCALE:GREGORIAN
METHOD:PUBLISH
X-WR-CALNAME:Sunshine Theater
X-WR-CALDESC:Upcoming events at Sunshine Theater
BEGIN:VTIMEZONE
TZID:America/Denver 
END:VTIMEZONE
BEGIN:VEVENT
SEQUENCE:2
TRANSP:OPAQUE
UID:bb5c6630f5486be1873d7eece5b59a79
DTSTART:20230721T210000
DTSTAMP:20230725T092127Z
SUMMARY:Emo Night Brooklyn 
DESCRIPTION:* Emo Night Brooklyn * 
CREATED:20230725T092127Z
URL;VALUE=URI:http://holdmyticket.com/event/414425 

DTEND:20230722T000000
END:VEVENT
END:VCALENDAR