BEGIN:VCALENDAR
METHOD:PUBLISH
X-WR-TIMEZONE:America/Denver
PRODID:-//Hold My Ticket.//HMT Web App//EN
CALSCALE:GREGORIAN
METHOD:PUBLISH
X-WR-CALNAME:Santa Fe Railyard Park
X-WR-CALDESC:Upcoming events at Santa Fe Railyard Park
BEGIN:VTIMEZONE
TZID:America/Denver 
END:VTIMEZONE
BEGIN:VEVENT
SEQUENCE:2
TRANSP:OPAQUE
UID:767f0f9f93977adf21e9adb09ec7eb20
DTSTART:20230812T190000
DTSTAMP:20230812T140133Z
SUMMARY:Disney Pixar's Soul
DESCRIPTION:
CREATED:20230812T140133Z
URL;VALUE=URI:http://holdmyticket.com/event/414997 

DTEND:20230812T220000
END:VEVENT
END:VCALENDAR