BEGIN:VCALENDAR
METHOD:PUBLISH
X-WR-TIMEZONE:America/Denver
PRODID:-//Hold My Ticket.//HMT Web App//EN
CALSCALE:GREGORIAN
METHOD:PUBLISH
X-WR-CALNAME:SWAN Park
X-WR-CALDESC:Upcoming events at SWAN Park
BEGIN:VTIMEZONE
TZID:America/Denver 
END:VTIMEZONE
BEGIN:VEVENT
SEQUENCE:2
TRANSP:OPAQUE
UID:c97dd8353db6df747fb74443474f3970
DTSTART:20230611T183000
DTSTAMP:20230611T140105Z
SUMMARY:Black Pearl Band
DESCRIPTION:
CREATED:20230611T140105Z
URL;VALUE=URI:http://holdmyticket.com/event/415042 

DTEND:20230611T220000
END:VEVENT
END:VCALENDAR