BEGIN:VCALENDAR
METHOD:PUBLISH
X-WR-TIMEZONE:America/Denver
PRODID:-//Hold My Ticket.//HMT Web App//EN
CALSCALE:GREGORIAN
METHOD:PUBLISH
X-WR-CALNAME:Santa Fe Plaza
X-WR-CALDESC:Upcoming events at Santa Fe Plaza
BEGIN:VTIMEZONE
TZID:America/Denver 
END:VTIMEZONE
BEGIN:VEVENT
SEQUENCE:2
TRANSP:OPAQUE
UID:58eb8c2f112f64e3bc3d8107ddd4d3d4
DTSTART:20230622T180000
DTSTAMP:20230622T130158Z
SUMMARY:Eliza Gilkyson CD Release Party
DESCRIPTION:
CREATED:20230622T130158Z
URL;VALUE=URI:http://holdmyticket.com/event/415046 

DTEND:20230622T220000
END:VEVENT
END:VCALENDAR