BEGIN:VCALENDAR
METHOD:PUBLISH
X-WR-TIMEZONE:America/New_York
PRODID:-//Hold My Ticket.//HMT Web App//EN
CALSCALE:GREGORIAN
METHOD:PUBLISH
X-WR-CALNAME:Thirsty Cowboy
X-WR-CALDESC:Upcoming events at Thirsty Cowboy
BEGIN:VTIMEZONE
TZID:America/New_York 
END:VTIMEZONE
BEGIN:VEVENT
SEQUENCE:2
TRANSP:OPAQUE
UID:cf1947c586db83054e7bc522ed1399a4
DTSTART:20230920T213000
DTSTAMP:20230920T170111Z
SUMMARY:LINE DANCE LESSONS WITH PATTI
DESCRIPTION:COME IN AND LEARN ALL THE GREAT LINE DANCES WITH OUR INSTRUCTOR PATTI.
DOORS at 7PM
LESSONS START at 7:30pm
$3 DRINK SPECIALS AND 60 CENT WINGS
CREATED:20230920T170111Z
URL;VALUE=URI:http://holdmyticket.com/event/415472 

DTEND:20230921T013000
END:VEVENT
END:VCALENDAR