BEGIN:VCALENDAR
METHOD:PUBLISH
X-WR-TIMEZONE:America/Denver
PRODID:-//Hold My Ticket.//HMT Web App//EN
CALSCALE:GREGORIAN
METHOD:PUBLISH
X-WR-CALNAME:Rio Bravo Brewery
X-WR-CALDESC:Upcoming events at Rio Bravo Brewery
BEGIN:VTIMEZONE
TZID:America/Denver 
END:VTIMEZONE
BEGIN:VEVENT
SEQUENCE:2
TRANSP:OPAQUE
UID:e16fee1be6ad66ce145b28f25bd8cb8c
DTSTART:20230603T130000
DTSTAMP:20230603T080129Z
SUMMARY:2023 Crawfish Boil 
DESCRIPTION:2023 Crawfish Boil at Rio Bravo Brewery on Saturday, June 3rd!
CREATED:20230603T080129Z
URL;VALUE=URI:http://holdmyticket.com/event/415581 

DTEND:20230603T180000
END:VEVENT
END:VCALENDAR