BEGIN:VCALENDAR
METHOD:PUBLISH
X-WR-TIMEZONE:America/Denver
PRODID:-//Hold My Ticket.//HMT Web App//EN
CALSCALE:GREGORIAN
METHOD:PUBLISH
X-WR-CALNAME:Santa Fe Plaza
X-WR-CALDESC:Upcoming events at Santa Fe Plaza
BEGIN:VTIMEZONE
TZID:America/Denver 
END:VTIMEZONE
BEGIN:VEVENT
SEQUENCE:2
TRANSP:OPAQUE
UID:0f49c72adb184c4ffe021f1408247607
DTSTART:20230807T180000
DTSTAMP:20230807T130153Z
SUMMARY:Eilen Jewell
DESCRIPTION:
CREATED:20230807T130153Z
URL;VALUE=URI:http://holdmyticket.com/event/415965 

DTEND:20230807T220000
END:VEVENT
END:VCALENDAR