BEGIN:VCALENDAR
METHOD:PUBLISH
X-WR-TIMEZONE:America/New_York
PRODID:-//Hold My Ticket.//HMT Web App//EN
CALSCALE:GREGORIAN
METHOD:PUBLISH
X-WR-CALNAME:Terra Fermata
X-WR-CALDESC:Upcoming events at Terra Fermata
BEGIN:VTIMEZONE
TZID:America/New_York 
END:VTIMEZONE
BEGIN:VEVENT
SEQUENCE:2
TRANSP:OPAQUE
UID:5333739201464bf27957b4c1ea887ef9
DTSTART:20230805T140000
DTSTAMP:20230805T090150Z
SUMMARY:Jerry Garcia Days Between Fest 2023!!!
DESCRIPTION:Spiral Light 2-4pm,  Brothers After All 5-7pm, Crazy Fingers 8-10pm, $20 advance, $25 door, $45 VIP

. J﻿erry Garcia had one of the most influential roles in a whole generation of amazing music. Join us as we celebrate his life, influences and music.
G﻿et ready for a truly unforgettable performance by one of Florida's most beloved Grateful Dead Tributes CRAZY FINGERS!!!! They will be headlining the show with a full lighting package to capture all of your senses and captivate your mind &amp; soul!!!
J﻿oining them will be the Treasure Coast's newest and hardest hitting supergroups Brothers After All!!!! This is one of the truest interpretations of The Allman Brothers performed by a star studded group of Florida superstars!!!
K﻿icking the show off in proper fashion will be The Gardens very own Dead Tribute band Spiral Light!!!!! Joni Bottari from Brown Eyed Women leads this group and will get the juices flowing with a high energy performance the only way they know how!!
W﻿e'll have food, vendors, art and a big tent to keep us cool during our Florida summer!!
CREATED:20230805T090150Z
URL;VALUE=URI:http://holdmyticket.com/event/416044 

DTEND:20230805T220000
END:VEVENT
END:VCALENDAR