BEGIN:VCALENDAR
METHOD:PUBLISH
X-WR-TIMEZONE:America/Denver
PRODID:-//Hold My Ticket.//HMT Web App//EN
CALSCALE:GREGORIAN
METHOD:PUBLISH
X-WR-CALNAME:Railyard Park
X-WR-CALDESC:Upcoming events at Railyard Park
BEGIN:VTIMEZONE
TZID:America/Denver 
END:VTIMEZONE
BEGIN:VEVENT
SEQUENCE:2
TRANSP:OPAQUE
UID:aa1ed907f579a91100ae4545feed8b9c
DTSTART:20230708T110000
DTSTAMP:20230708T060151Z
SUMMARY:International Folk Art Market
DESCRIPTION:Join us at the Santa Fe Railyard Park for the 2023 International Folk Art Market in Santa Fe! This year, 168 artists from 52 countries are invited to exhibit their art and take part in the opportunity of a lifetime. 
CREATED:20230708T060151Z
URL;VALUE=URI:http://holdmyticket.com/event/416142 

DTEND:20230708T170000
END:VEVENT
END:VCALENDAR