BEGIN:VCALENDAR
METHOD:PUBLISH
X-WR-TIMEZONE:America/Los_Angeles
PRODID:-//Hold My Ticket.//HMT Web App//EN
CALSCALE:GREGORIAN
METHOD:PUBLISH
X-WR-CALNAME:Dante's
X-WR-CALDESC:Upcoming events at Dante's
BEGIN:VTIMEZONE
TZID:America/Los_Angeles 
END:VTIMEZONE
BEGIN:VEVENT
SEQUENCE:2
TRANSP:OPAQUE
UID:57dd2546950e12568de2986c386fbc0d
DTSTART:20230720T210000
DTSTAMP:20230720T160110Z
SUMMARY:TIGERS ON OPIUM,
DESCRIPTION:$21+ / $12 ADV - $15 DOS / 8PM DOORS
CREATED:20230720T160110Z
URL;VALUE=URI:http://holdmyticket.com/event/416350 

DTEND:20230720T233000
END:VEVENT
END:VCALENDAR