BEGIN:VCALENDAR
METHOD:PUBLISH
X-WR-TIMEZONE:America/Denver
PRODID:-//Hold My Ticket.//HMT Web App//EN
CALSCALE:GREGORIAN
METHOD:PUBLISH
X-WR-CALNAME:Santa Fe Plaza
X-WR-CALDESC:Upcoming events at Santa Fe Plaza
BEGIN:VTIMEZONE
TZID:America/Denver 
END:VTIMEZONE
BEGIN:VEVENT
SEQUENCE:2
TRANSP:OPAQUE
UID:dba6233d81f970407b6da5e0f6129653
DTSTART:20230824T173000
DTSTAMP:20230824T162238Z
SUMMARY:The Motet
DESCRIPTION:
CREATED:20230824T162238Z
URL;VALUE=URI:http://holdmyticket.com/event/416409 

DTEND:20230824T220000
END:VEVENT
END:VCALENDAR