BEGIN:VCALENDAR
METHOD:PUBLISH
X-WR-TIMEZONE:America/New_York
PRODID:-//Hold My Ticket.//HMT Web App//EN
CALSCALE:GREGORIAN
METHOD:PUBLISH
X-WR-CALNAME:Howard's Club H
X-WR-CALDESC:Upcoming events at Howard's Club H
BEGIN:VTIMEZONE
TZID:America/New_York 
END:VTIMEZONE
BEGIN:VEVENT
SEQUENCE:2
TRANSP:OPAQUE
UID:2deefbfbd3f4a767e81b8e4f4fa5127a
DTSTART:20230820T180000
DTSTAMP:20230820T130151Z
SUMMARY:Narcotic Wasteland 
DESCRIPTION:
CREATED:20230820T130151Z
URL;VALUE=URI:http://holdmyticket.com/event/416478 

DTEND:20230820T223000
END:VEVENT
END:VCALENDAR