BEGIN:VCALENDAR
METHOD:PUBLISH
X-WR-TIMEZONE:America/Denver
PRODID:-//Hold My Ticket.//HMT Web App//EN
CALSCALE:GREGORIAN
METHOD:PUBLISH
X-WR-CALNAME:Tumbleroot Brewery & Distillery
X-WR-CALDESC:Upcoming events at Tumbleroot Brewery & Distillery
BEGIN:VTIMEZONE
TZID:America/Denver 
END:VTIMEZONE
BEGIN:VEVENT
SEQUENCE:2
TRANSP:OPAQUE
UID:124da5af7a1f7db67ea5c3fa30d72e53
DTSTART:20230816T193000
DTSTAMP:20230816T150158Z
SUMMARY:Ally Venable
DESCRIPTION:Texas blues/rock guitarist, vocalist, and songwriter Ally Venable has made her fiery presence known around the world since the release of her debut album at 16. Now, with her fifth solo effort Real Gone!, Venable has come of age. 
CREATED:20230816T150158Z
URL;VALUE=URI:http://holdmyticket.com/event/416786 

DTEND:20230816T213000
END:VEVENT
END:VCALENDAR