BEGIN:VCALENDAR
METHOD:PUBLISH
X-WR-TIMEZONE:America/Los_Angeles
PRODID:-//Hold My Ticket.//HMT Web App//EN
CALSCALE:GREGORIAN
METHOD:PUBLISH
X-WR-CALNAME:STAGES
X-WR-CALDESC:Upcoming events at STAGES
BEGIN:VTIMEZONE
TZID:America/Los_Angeles 
END:VTIMEZONE
BEGIN:VEVENT
SEQUENCE:2
TRANSP:OPAQUE
UID:eedb0c14b064ffdc240a425fcca982b5
DTSTART:20230610T180000
DTSTAMP:20230610T130128Z
SUMMARY:WITCH and Special Guests
DESCRIPTION:
CREATED:20230610T130128Z
URL;VALUE=URI:http://holdmyticket.com/event/416793 

DTEND:20230611T014500
END:VEVENT
END:VCALENDAR