BEGIN:VCALENDAR
METHOD:PUBLISH
X-WR-TIMEZONE:America/Denver
PRODID:-//Hold My Ticket.//HMT Web App//EN
CALSCALE:GREGORIAN
METHOD:PUBLISH
X-WR-CALNAME:Z Lounge/ Hotel Zazz
X-WR-CALDESC:Upcoming events at Z Lounge/ Hotel Zazz
BEGIN:VTIMEZONE
TZID:America/Denver 
END:VTIMEZONE
BEGIN:VEVENT
SEQUENCE:2
TRANSP:OPAQUE
UID:d6da1b3fca6fe007a9a185e9811e47f5
DTSTART:20230610T130000
DTSTAMP:20230610T080128Z
SUMMARY:Girlies, Gays &amp; Theys Luv Pride Parades
DESCRIPTION:
CREATED:20230610T080128Z
URL;VALUE=URI:http://holdmyticket.com/event/416955 

DTEND:20230610T180000
END:VEVENT
END:VCALENDAR