BEGIN:VCALENDAR
METHOD:PUBLISH
X-WR-TIMEZONE:America/Denver
PRODID:-//Hold My Ticket.//HMT Web App//EN
CALSCALE:GREGORIAN
METHOD:PUBLISH
X-WR-CALNAME:HQ
X-WR-CALDESC:Upcoming events at HQ
BEGIN:VTIMEZONE
TZID:America/Denver 
END:VTIMEZONE
BEGIN:VEVENT
SEQUENCE:2
TRANSP:OPAQUE
UID:18eb432a7fc2e3300fc5fa70134d3fec
DTSTART:20231107T200000
DTSTAMP:20231013T150705Z
SUMMARY:A Giant Dog - Moved to The Oriental!
DESCRIPTION:
CREATED:20231013T150705Z
URL;VALUE=URI:http://holdmyticket.com/event/417355 

DTEND:20231107T233000
END:VEVENT
END:VCALENDAR