BEGIN:VCALENDAR
METHOD:PUBLISH
X-WR-TIMEZONE:America/Denver
PRODID:-//Hold My Ticket.//HMT Web App//EN
CALSCALE:GREGORIAN
METHOD:PUBLISH
X-WR-CALNAME:El Rey Theater
X-WR-CALDESC:Upcoming events at El Rey Theater
BEGIN:VTIMEZONE
TZID:America/Denver 
END:VTIMEZONE
BEGIN:VEVENT
SEQUENCE:2
TRANSP:OPAQUE
UID:312c481b9588825a23888f442cb7a358
DTSTART:20230715T193000
DTSTAMP:20230814T111803Z
SUMMARY:Clash of the Titans Tag Team Battle
DESCRIPTION:Get ready for an explosive tag team wrestling match that will take you on a wild ride from the high desert of New Mexico to the fierce territories of Texas! In this thrilling encounter, the dynamic duo of Hobo Hank and Thunder, proudly representing the Land of Enchantment, will clash with the notorious bad guys from Texas, Charlie 50 and Phoenix, led by their cunning manager, Veronica Vega.

Hobo Hank, a rugged and charismatic character, embodies the spirit of the open road and the resilience of the underdog. With his trademark tattered clothes and a heart full of determination, he has captured the hearts of wrestling fans across New Mexico. Accompanying him is Thunder, a powerhouse of a wrestler, known for his immense strength and thunderous strikes. Together, they form an unlikely alliance, blending Hank's unyielding spirit with Thunder's raw power.

Their opponents, Charlie 50 and Phoenix, are a fearsome duo hailing from the tough streets of Texas. Charlie 50, a cunning and deceptive wrestler, uses his quickness and agility to outmaneuver his opponents. Phoenix, on the other hand, is a hard-hitting daredevil that will leave spectators in awe. With their underhanded tactics and ruthless demeanor, this duo has earned a reputation as formidable antagonists.

But the plot thickens with the presence of Veronica Vega, a cunning and manipulative manager who stops at nothing to secure victory for her team. With her sharp wit and backstage connections, she is the puppeteer behind Charlie 50 and Phoenix, orchestrating their every move to gain an advantage over their opponents. Vega's intimidating presence at ringside adds an element of tension and uncertainty to the match, as she employs mind games and distractions to keep Hobo Hank and Thunder off-balance.

When the bell rings, the crowd will erupts with anticipation, knowing that they are about to witness an electrifying clash between these contrasting forces. With the spirit of New Mexico driving them forward, Hobo Hank and Thunder will fight with every ounce of their being to overcome the odds and conquer their rivals from Texas. Will their determination and resilience be enough to withstand the devious tactics of Charlie 50 and Phoenix, along with the manipulations of Veronica Vega? Prepare for an intense battle where honor, pride, and glory hang in the balance!
CREATED:20230814T111803Z
URL;VALUE=URI:http://holdmyticket.com/event/417361 

DTEND:20230715T220000
END:VEVENT
END:VCALENDAR