BEGIN:VCALENDAR
METHOD:PUBLISH
X-WR-TIMEZONE:America/Denver
PRODID:-//Hold My Ticket.//HMT Web App//EN
CALSCALE:GREGORIAN
METHOD:PUBLISH
X-WR-CALNAME:FUSION | 708
X-WR-CALDESC:Upcoming events at FUSION | 708
BEGIN:VTIMEZONE
TZID:America/Denver 
END:VTIMEZONE
BEGIN:VEVENT
SEQUENCE:2
TRANSP:OPAQUE
UID:80c71feb92b54157ab5c346381e834a3
DTSTART:20230909T193000
DTSTAMP:20230909T150123Z
SUMMARY:Lydia Lunch
DESCRIPTION:Lydia Lunch has been touring in a variety of mediums since 1977. In 1982 she began performing and curating spoken word shows in NYC at The Pyramid, The Knitting Factory, The Kitchen, The Performing Garage, La Mama, The Roxy Hotel and numerous other venues. She has appeared live with John Giorno, Hubert Selby Jr, Karen Finley, Jerry Stahl, Wanda Coleman, Henry Rollins, and Last Poet Umar Bin Hassan to name a few, often arranging shows and booking tours throughout America, Europe and Australia. She has presented workshops for writers throughout the USA and Europe, where she continues to tour with both music and spoken word.
CREATED:20230909T150123Z
URL;VALUE=URI:http://holdmyticket.com/event/417382 

DTEND:20230909T213000
END:VEVENT
END:VCALENDAR