BEGIN:VCALENDAR
METHOD:PUBLISH
X-WR-TIMEZONE:America/Denver
PRODID:-//Hold My Ticket.//HMT Web App//EN
CALSCALE:GREGORIAN
METHOD:PUBLISH
X-WR-CALNAME:Ballut Abyad Shriners
X-WR-CALDESC:Upcoming events at Ballut Abyad Shriners
BEGIN:VTIMEZONE
TZID:America/Denver 
END:VTIMEZONE
BEGIN:VEVENT
SEQUENCE:2
TRANSP:OPAQUE
UID:d7a38b2a973ac77e8219d9027bacb1d4
DTSTART:20230923T110000
DTSTAMP:20230923T060130Z
SUMMARY:Hero in All Of Us 2023
DESCRIPTION:
CREATED:20230923T060130Z
URL;VALUE=URI:http://holdmyticket.com/event/418374 

DTEND:20230923T180000
END:VEVENT
END:VCALENDAR