BEGIN:VCALENDAR
METHOD:PUBLISH
X-WR-TIMEZONE:America/Denver
PRODID:-//Hold My Ticket.//HMT Web App//EN
CALSCALE:GREGORIAN
METHOD:PUBLISH
X-WR-CALNAME:Main Library (Albuquerque)
X-WR-CALDESC:Upcoming events at Main Library (Albuquerque)
BEGIN:VTIMEZONE
TZID:America/Denver 
END:VTIMEZONE
BEGIN:VEVENT
SEQUENCE:2
TRANSP:OPAQUE
UID:e460bf899658b8076dcb921ecd917257
DTSTART:20231025T120000
DTSTAMP:20231025T070117Z
SUMMARY:Sharkk Heartt and Jillian Bessett
DESCRIPTION:Sharkk Heartt (aka Lara Ruggles) returns for her third round of library shows!
Jillian Bessett is a vocal loop artist from Tucson, AZ who uses the Boss RC-505 to create a lush audial landscape beneath layers of intricate harmonies. 
CREATED:20231025T070117Z
URL;VALUE=URI:http://holdmyticket.com/event/418718 

DTEND:20231025T130000
END:VEVENT
END:VCALENDAR