BEGIN:VCALENDAR
METHOD:PUBLISH
X-WR-TIMEZONE:America/Denver
PRODID:-//Hold My Ticket.//HMT Web App//EN
CALSCALE:GREGORIAN
METHOD:PUBLISH
X-WR-CALNAME:Tumbleroot Brewery & Distillery
X-WR-CALDESC:Upcoming events at Tumbleroot Brewery & Distillery
BEGIN:VTIMEZONE
TZID:America/Denver 
END:VTIMEZONE
BEGIN:VEVENT
SEQUENCE:2
TRANSP:OPAQUE
UID:05eff3e0b3542d092d34230525760d41
DTSTART:20231117T193000
DTSTAMP:20231117T184116Z
SUMMARY:La Dame Blanche &amp; BCUC
DESCRIPTION:With her always expanding and singular mix of hip hop, female empowerment, dancehall, and catchy beats, singer, flautist, and percussionist Yaite Ramos Rodriguez, aka La Dame Blanche, delivers a powerful and compelling sound that summons the spirits. Rebellious, spiritual, and exhilarating, BCUC's live shows are transcendent rites of explosive sound. 
CREATED:20231117T184116Z
URL;VALUE=URI:http://holdmyticket.com/event/418720 

DTEND:20231117T233000
END:VEVENT
END:VCALENDAR