BEGIN:VCALENDAR
METHOD:PUBLISH
X-WR-TIMEZONE:America/Denver
PRODID:-//Hold My Ticket.//HMT Web App//EN
CALSCALE:GREGORIAN
METHOD:PUBLISH
X-WR-CALNAME:Enchanted Falls Event Center
X-WR-CALDESC:Upcoming events at Enchanted Falls Event Center
BEGIN:VTIMEZONE
TZID:America/Denver 
END:VTIMEZONE
BEGIN:VEVENT
SEQUENCE:2
TRANSP:OPAQUE
UID:e94313ce7d2d2732cae17bd6467b778d
DTSTART:20230915T180000
DTSTAMP:20230915T130101Z
SUMMARY:Alongside Ministries Denim and Glitz Fundraiser
DESCRIPTION:Join us for a fun-filled night celebrating Alongside's fifth anniversary.  Wear your denim, boots and glitz for dinner, dancing and casino tables!  Craig Miller will be back to provide live music.  We will be offering a silent auction with wonderful prizes! Last year's event sold out and we expect tickets to go quickly!
CREATED:20230915T130101Z
URL;VALUE=URI:http://holdmyticket.com/event/418843 

DTEND:20230915T220000
END:VEVENT
END:VCALENDAR