BEGIN:VCALENDAR
METHOD:PUBLISH
X-WR-TIMEZONE:America/Denver
PRODID:-//Hold My Ticket.//HMT Web App//EN
CALSCALE:GREGORIAN
METHOD:PUBLISH
X-WR-CALNAME:The Oriental Theater
X-WR-CALDESC:Upcoming events at The Oriental Theater
BEGIN:VTIMEZONE
TZID:America/Denver 
END:VTIMEZONE
BEGIN:VEVENT
SEQUENCE:2
TRANSP:OPAQUE
UID:f02569cbb8e6bd0190767e105c7636ec
DTSTART:20230929T183000
DTSTAMP:20230929T140146Z
SUMMARY:Teton Gravity Research presents: Legend Has It  9/29/23
DESCRIPTION:
CREATED:20230929T140146Z
URL;VALUE=URI:http://holdmyticket.com/event/419098 

DTEND:20230929T230000
END:VEVENT
END:VCALENDAR