BEGIN:VCALENDAR
METHOD:PUBLISH
X-WR-TIMEZONE:America/Denver
PRODID:-//Hold My Ticket.//HMT Web App//EN
CALSCALE:GREGORIAN
METHOD:PUBLISH
X-WR-CALNAME:KiMo Theatre
X-WR-CALDESC:Upcoming events at KiMo Theatre
BEGIN:VTIMEZONE
TZID:America/Denver 
END:VTIMEZONE
BEGIN:VEVENT
SEQUENCE:2
TRANSP:OPAQUE
UID:1fc6554091a9a71e568cead77e9dcfe5
DTSTART:20230918T200000
DTSTAMP:20230918T150140Z
SUMMARY:Night 4 - BJ the Chicago Kid
DESCRIPTION:The story of Cordovas is one of rock 'n' roll seekers, hammering away in search of not only their ideal freewheeling sound, but also for some greater truth about the human experience. Lead-singer Joe Firstman, with his journey from pro-surfer, to Atlantic Records dropout, to Carson Daly house band host, to Cordovas' front man, fearlessly steers the band with his unconventional experience. Cordovas' latest record, The Rose Of Aces,' beautifully blends American roots storytelling while incorporating elements of rock, country, and jam-band style musicianship - showcasing their finest work to date.
CREATED:20230918T150140Z
URL;VALUE=URI:http://holdmyticket.com/event/419747 

DTEND:20230918T220000
END:VEVENT
END:VCALENDAR