BEGIN:VCALENDAR
METHOD:PUBLISH
X-WR-TIMEZONE:America/Denver
PRODID:-//Hold My Ticket.//HMT Web App//EN
CALSCALE:GREGORIAN
METHOD:PUBLISH
X-WR-CALNAME:KiMo Theatre
X-WR-CALDESC:Upcoming events at KiMo Theatre
BEGIN:VTIMEZONE
TZID:America/Denver 
END:VTIMEZONE
BEGIN:VEVENT
SEQUENCE:2
TRANSP:OPAQUE
UID:111c7c109bec18183ec402943f2841f8
DTSTART:20230921T200000
DTSTAMP:20230921T150111Z
SUMMARY:Night 7 - Paco Versailles
DESCRIPTION:Paco Versailles is a collaboration between guitarist/producer Vahagni and songwriter/producer Ryan Merchant (Capital Cities). Their sound is a mix of flamenco guitar rhythms with disco-leaning electronic production and captivating vocals, a new genre they call Dancemenco. 
CREATED:20230921T150111Z
URL;VALUE=URI:http://holdmyticket.com/event/419762 

DTEND:20230921T220000
END:VEVENT
END:VCALENDAR