BEGIN:VCALENDAR
METHOD:PUBLISH
X-WR-TIMEZONE:America/Denver
PRODID:-//Hold My Ticket.//HMT Web App//EN
CALSCALE:GREGORIAN
METHOD:PUBLISH
X-WR-CALNAME:Paradiso
X-WR-CALDESC:Upcoming events at Paradiso
BEGIN:VTIMEZONE
TZID:America/Denver 
END:VTIMEZONE
BEGIN:VEVENT
SEQUENCE:2
TRANSP:OPAQUE
UID:a3d689c72c47429ae58c9eb6aac87cb0
DTSTART:20231112T193000
DTSTAMP:20231004T025120Z
SUMMARY:Peter Case
DESCRIPTION:"I try to take things I love and use them in a new way," said triple Grammy-nominated singer-songwriter Peter Case of his 16th solo album "Doctor Moan." Case brings his considerable songwriting ability to an 11-song collection, largely performed on piano, including his first solo recorded instrumental.
CREATED:20231004T025120Z
URL;VALUE=URI:http://holdmyticket.com/event/420002 

DTEND:20231112T220000
END:VEVENT
END:VCALENDAR