BEGIN:VCALENDAR
METHOD:PUBLISH
X-WR-TIMEZONE:America/Denver
PRODID:-//Hold My Ticket.//HMT Web App//EN
CALSCALE:GREGORIAN
METHOD:PUBLISH
X-WR-CALNAME:The Oriental Theater
X-WR-CALDESC:Upcoming events at The Oriental Theater
BEGIN:VTIMEZONE
TZID:America/Denver 
END:VTIMEZONE
BEGIN:VEVENT
SEQUENCE:2
TRANSP:OPAQUE
UID:c0043c120ad0875b11ffbc6f18a0c610
DTSTART:20240328T180000
DTSTAMP:20240215T155123Z
SUMMARY:2024 Fly Fishing Film Tour
DESCRIPTION:
CREATED:20240215T155123Z
URL;VALUE=URI:http://holdmyticket.com/event/420616 

DTEND:20240328T223000
END:VEVENT
END:VCALENDAR