BEGIN:VCALENDAR
METHOD:PUBLISH
X-WR-TIMEZONE:America/Chicago
PRODID:-//Hold My Ticket.//HMT Web App//EN
CALSCALE:GREGORIAN
METHOD:PUBLISH
X-WR-CALNAME:Granada Theater
X-WR-CALDESC:Upcoming events at Granada Theater
BEGIN:VTIMEZONE
TZID:America/Chicago 
END:VTIMEZONE
BEGIN:VEVENT
SEQUENCE:2
TRANSP:OPAQUE
UID:225bf422932de9279eb1ed84b9755140
DTSTART:20240526T193000
DTSTAMP:20230822T120037Z
SUMMARY:Soen
DESCRIPTION:
CREATED:20230822T120037Z
URL;VALUE=URI:http://holdmyticket.com/event/420630 

DTEND:20240526T233000
END:VEVENT
END:VCALENDAR