BEGIN:VCALENDAR
METHOD:PUBLISH
X-WR-TIMEZONE:America/Los_Angeles
PRODID:-//Hold My Ticket.//HMT Web App//EN
CALSCALE:GREGORIAN
METHOD:PUBLISH
X-WR-CALNAME:Star Theater
X-WR-CALDESC:Upcoming events at Star Theater
BEGIN:VTIMEZONE
TZID:America/Los_Angeles 
END:VTIMEZONE
BEGIN:VEVENT
SEQUENCE:2
TRANSP:OPAQUE
UID:3922f99f0ab58f69bca55be3f50b2908
DTSTART:20231106T200000
DTSTAMP:20231106T160110Z
SUMMARY:CHAT PILE
DESCRIPTION:ALL AGES* / $20 ADV - $25 DOS / 7PM DOORS

*LIMITIED ALL AGES TICKETS AVAILABLE IN THE BALCONY
CREATED:20231106T160110Z
URL;VALUE=URI:http://holdmyticket.com/event/420776 

DTEND:20231106T223000
END:VEVENT
END:VCALENDAR