BEGIN:VCALENDAR
METHOD:PUBLISH
X-WR-TIMEZONE:America/Denver
PRODID:-//Hold My Ticket.//HMT Web App//EN
CALSCALE:GREGORIAN
METHOD:PUBLISH
X-WR-CALNAME:ampconcerts.org
X-WR-CALDESC:Upcoming events at ampconcerts.org
BEGIN:VTIMEZONE
TZID:America/Denver 
END:VTIMEZONE
BEGIN:VEVENT
SEQUENCE:2
TRANSP:OPAQUE
UID:50d0cfb880e175426abb758b58237cc3
DTSTART:20231001T200000
DTSTAMP:20231001T150141Z
SUMMARY:Donation to support the Maui Strong Fund
DESCRIPTION:While we celebrate the spirit of aloha in New Mexico, let's think about our friends in Maui as well. AMP will be collecting funds in conjunction with these concerts, as well as at the events, and will donate 100% of the funds collected to the Hawaii Community Foundation's Maui Strong fund. AMP will cover the credit card fees on the donations.
CREATED:20231001T150141Z
URL;VALUE=URI:http://holdmyticket.com/event/421348 

DTEND:20231001T234500
END:VEVENT
END:VCALENDAR