BEGIN:VCALENDAR
METHOD:PUBLISH
X-WR-TIMEZONE:America/Denver
PRODID:-//Hold My Ticket.//HMT Web App//EN
CALSCALE:GREGORIAN
METHOD:PUBLISH
X-WR-CALNAME:Ka Lā Kapu Polynesian Dance School
X-WR-CALDESC:Upcoming events at Ka Lā Kapu Polynesian Dance School
BEGIN:VTIMEZONE
TZID:America/Denver 
END:VTIMEZONE
BEGIN:VEVENT
SEQUENCE:2
TRANSP:OPAQUE
UID:5df53d08c3c30b02ed9edb391577cf2c
DTSTART:20230929T190000
DTSTAMP:20230929T140146Z
SUMMARY:Slack Key Guitar and Ukulele Workshop with Jeff Peterson and George Kahumoku Jr.
DESCRIPTION:There's a reason he's been called Hawaii's Renaissance man: George Kahumoku Jr. is a 4-time Grammy Award winner in Hawaiian music as well as multiple Na Hoku Hanohano Award-winner. He is a slack key guitar master, songwriter, world-traveling performer, high school and college teacher, artist and sculptor, storyteller and writer, farmer, chef, and entrepreneur. Jeff Peterson is an amazingly versatile guitar virtuoso. He is a Grammy winner as well as a four-time winner of the Na Hoku (Hawaii's Grammy) award for Best Slack Key Album.
CREATED:20230929T140146Z
URL;VALUE=URI:http://holdmyticket.com/event/421352 

DTEND:20230929T210000
END:VEVENT
END:VCALENDAR