BEGIN:VCALENDAR
METHOD:PUBLISH
X-WR-TIMEZONE:America/Denver
PRODID:-//Hold My Ticket.//HMT Web App//EN
CALSCALE:GREGORIAN
METHOD:PUBLISH
X-WR-CALNAME:The Oriental Theater
X-WR-CALDESC:Upcoming events at The Oriental Theater
BEGIN:VTIMEZONE
TZID:America/Denver 
END:VTIMEZONE
BEGIN:VEVENT
SEQUENCE:2
TRANSP:OPAQUE
UID:8dfce5ec11d376fdb1072dd67fdabbe2
DTSTART:20231103T193000
DTSTAMP:20231103T150123Z
SUMMARY:Lost Relics + Messiahvore + Cobranoid
DESCRIPTION:
CREATED:20231103T150123Z
URL;VALUE=URI:http://holdmyticket.com/event/421533 

DTEND:20231103T233000
END:VEVENT
END:VCALENDAR